BEGIN:VCALENDAR
VERSION:2.0
PRODID:-//Anything Ongar - ECPv6.15.20//NONSGML v1.0//EN
CALSCALE:GREGORIAN
METHOD:PUBLISH
X-ORIGINAL-URL:https://anythingongar.co.uk
X-WR-CALDESC:Events for Anything Ongar
REFRESH-INTERVAL;VALUE=DURATION:PT1H
X-Robots-Tag:noindex
X-PUBLISHED-TTL:PT1H
BEGIN:VTIMEZONE
TZID:Europe/London
BEGIN:DAYLIGHT
TZOFFSETFROM:+0000
TZOFFSETTO:+0100
TZNAME:BST
DTSTART:20250330T010000
END:DAYLIGHT
BEGIN:STANDARD
TZOFFSETFROM:+0100
TZOFFSETTO:+0000
TZNAME:GMT
DTSTART:20251026T010000
END:STANDARD
BEGIN:DAYLIGHT
TZOFFSETFROM:+0000
TZOFFSETTO:+0100
TZNAME:BST
DTSTART:20260329T010000
END:DAYLIGHT
BEGIN:STANDARD
TZOFFSETFROM:+0100
TZOFFSETTO:+0000
TZNAME:GMT
DTSTART:20261025T010000
END:STANDARD
BEGIN:DAYLIGHT
TZOFFSETFROM:+0000
TZOFFSETTO:+0100
TZNAME:BST
DTSTART:20270328T010000
END:DAYLIGHT
BEGIN:STANDARD
TZOFFSETFROM:+0100
TZOFFSETTO:+0000
TZNAME:GMT
DTSTART:20271031T010000
END:STANDARD
END:VTIMEZONE
BEGIN:VEVENT
DTSTART;TZID=Europe/London:20260424T200000
DTEND;TZID=Europe/London:20260424T230000
DTSTAMP:20260424T033845
CREATED:20260421T182857Z
LAST-MODIFIED:20260421T183626Z
UID:10000445-1777060800-1777071600@anythingongar.co.uk
SUMMARY:Soul Night with Ken at The Stag
DESCRIPTION:Get ready for another unforgettable Soul Night at The Stag!\nJoin us from 8pm as DJ Ken plays all the classic and contemporary soul tunes you love\, setting the scene for one of Ongar’s most popular nights out. Known for drawing a fantastic crowd\, this lively evening is packed with friendly faces and unbeatable atmosphere\, perfect whether you’re a regular or it’s your first time. \nWhy not make a night of it?\nArrive early and treat yourself to a delicious meal before the music kicks off. Bring your friends\, meet new ones\, and let the soulful sounds carry you through a brilliant evening of dancing\, laughter\, and good vibes. \nNo need to book\, just come down\, soak up the energy\, and be part of Ongar’s favourite soul celebration!
URL:https://anythingongar.co.uk/event/soul-night-with-ken-at-the-stag/
LOCATION:The Stag\, Brentwood Rd\, Ongar\, Essex\, CM5 9DH\, United Kingdom
CATEGORIES:Entertainment,Food & Drink
ATTACH;FMTTYPE=image/jpeg:https://anythingongar.co.uk/wp-content/uploads/2026/02/soulnight.jpg
END:VEVENT
BEGIN:VEVENT
DTSTART;TZID=Europe/London:20260430T183000
DTEND;TZID=Europe/London:20260430T210000
DTSTAMP:20260424T033845
CREATED:20260221T022352Z
LAST-MODIFIED:20260221T022352Z
UID:10000381-1777573800-1777582800@anythingongar.co.uk
SUMMARY:Ongar Netball Training
DESCRIPTION:Ongar Netball Club – Weekly Training Sessions\nLooking to get active\, meet new friends\, and be part of a thriving local community? Ongar Netball Club welcomes players of all ages and abilities! Whether you’re new to netball or returning after a break\, you’ll find a friendly\, supportive environment where everyone is encouraged to join in and have fun. \nWhen & Where: \n\nEvery Thursday during school term time at The Ongar Academy\, Fyfield Road\, Chipping Ongar\, Ongar CM5 0AN\nJuniors (Ages 7–13): 6:30–7:30pm | £5 per session\nAdults: 7:30–9:00pm | £6 per session\n\nOngar Netball sessions are designed for all – whether you’re after fitness\, friendly games\, or competitive league play. No experience needed – just enthusiasm! \n\nFriendly\, inclusive atmosphere\nAll equipment provided\nTeams for beginners and experienced players\nOpportunities for league matches and social events\n\nReady to get involved? Just turn up on the night\, or email On**********@***il.com for more info. Follow us on Facebook\, or Instagram\, for weekly updates \nCome and join the Ongar Netball family – everyone is welcome! \nFor more details\, visit ongarnetball.co.uk
URL:https://anythingongar.co.uk/event/ongar-netball-training/2026-04-30/
LOCATION:The Ongar Academy\, Fyfield Road\, Ongar\, Essex\, CM5 0AN\, United Kingdom
CATEGORIES:Sports
ATTACH;FMTTYPE=image/jpeg:https://anythingongar.co.uk/wp-content/uploads/2026/02/netball-training.jpg
ORGANIZER;CN="Ongar Netball Club":MAILTO:Ongarnetball@gmail.com
END:VEVENT
BEGIN:VEVENT
DTSTART;TZID=Europe/London:20260430T190000
DTEND;TZID=Europe/London:20260430T210000
DTSTAMP:20260424T033845
CREATED:20260317T160325Z
LAST-MODIFIED:20260317T161241Z
UID:10000444-1777575600-1777582800@anythingongar.co.uk
SUMMARY:Anything Ongar Networking Launch
DESCRIPTION:It’s been a long time coming… and we truly believe this is just what Ongar needs to help each other\, connect\, and grow together. The Anything Ongar Networking Launch is bringing together local business owners\, entrepreneurs\, and ambitious professionals for a welcoming evening of connections\, expert insights\, and practical takeaways. Whether you’re looking to meet new people locally\, find collaboration opportunities\, or leave feeling inspired and clearer on your next steps — this one’s for you. \nAnd just to be clear: everyone is welcome — whether you’re a beautician\, hairdresser\, therapist\, personal trainer\, café/restaurant owner\, retailer\, tradesperson\, service provider\, or anything in between. \nWhat to expect\n\nA relaxed\, friendly networking environment\nGuest speaker session with practical insights you can apply straight away\nBusiness growth discussion: ideal clients\, smarter advertising\, and next steps\nLight bites included in your ticket\nClub House bar open throughout the evening\n\nGuest speaker\nWe’re delighted to welcome David Cotterill from Mentoring for Life: https://www.mentoringforlife.co.uk/ David will be talking about mentoring and how the brain thinks in business — the journey from: \nthe event → the thinking → the feelings → the action \nThis helps you understand what drives decisions (yours and your customers’) and how to use that knowledge to grow. \nPromote your business (goodie bags)\nIf you’re attending and would like to promote your business\, please bring along flyers\, business cards\, and small promotional items — we can include these in our event goodie bags. \nSponsorships & stands\nIf you’d like extra visibility\, we have limited availability for sponsorships and stands. Please contact us to find out more. \nTicket prices\n\nStandard ticket: £20\nEarly bird: £15 (available until 1st April)\n\nWhat’s included\nLight bites from Katsu Queen are included in the ticket price. \nContact\nQuestions\, sponsorships\, or stand enquiries: Email
URL:https://anythingongar.co.uk/event/anything-ongar-networking-launch/
LOCATION:Fyfield Sports Academy\, Fyfield Rd\, Ongar\, Essex\, CM5 0GN\, United Kingdom
CATEGORIES:Community Support,Networking
ATTACH;FMTTYPE=image/jpeg:https://anythingongar.co.uk/wp-content/uploads/2026/03/networking-launch.jpg
ORGANIZER;CN="Anything Ongar":MAILTO:info@anythingongar.co.uk
END:VEVENT
END:VCALENDAR