BEGIN:VCALENDAR
VERSION:2.0
PRODID:-//Anything Ongar - ECPv6.15.20//NONSGML v1.0//EN
CALSCALE:GREGORIAN
METHOD:PUBLISH
X-WR-CALNAME:Anything Ongar
X-ORIGINAL-URL:https://anythingongar.co.uk
X-WR-CALDESC:Events for Anything Ongar
REFRESH-INTERVAL;VALUE=DURATION:PT1H
X-Robots-Tag:noindex
X-PUBLISHED-TTL:PT1H
BEGIN:VTIMEZONE
TZID:Europe/London
BEGIN:DAYLIGHT
TZOFFSETFROM:+0000
TZOFFSETTO:+0100
TZNAME:BST
DTSTART:20250330T010000
END:DAYLIGHT
BEGIN:STANDARD
TZOFFSETFROM:+0100
TZOFFSETTO:+0000
TZNAME:GMT
DTSTART:20251026T010000
END:STANDARD
BEGIN:DAYLIGHT
TZOFFSETFROM:+0000
TZOFFSETTO:+0100
TZNAME:BST
DTSTART:20260329T010000
END:DAYLIGHT
BEGIN:STANDARD
TZOFFSETFROM:+0100
TZOFFSETTO:+0000
TZNAME:GMT
DTSTART:20261025T010000
END:STANDARD
BEGIN:DAYLIGHT
TZOFFSETFROM:+0000
TZOFFSETTO:+0100
TZNAME:BST
DTSTART:20270328T010000
END:DAYLIGHT
BEGIN:STANDARD
TZOFFSETFROM:+0100
TZOFFSETTO:+0000
TZNAME:GMT
DTSTART:20271031T010000
END:STANDARD
END:VTIMEZONE
BEGIN:VEVENT
DTSTART;TZID=Europe/London:20260702T183000
DTEND;TZID=Europe/London:20260702T210000
DTSTAMP:20260424T112213
CREATED:20260221T022352Z
LAST-MODIFIED:20260221T022352Z
UID:10000389-1783017000-1783026000@anythingongar.co.uk
SUMMARY:Ongar Netball Training
DESCRIPTION:Ongar Netball Club – Weekly Training Sessions\nLooking to get active\, meet new friends\, and be part of a thriving local community? Ongar Netball Club welcomes players of all ages and abilities! Whether you’re new to netball or returning after a break\, you’ll find a friendly\, supportive environment where everyone is encouraged to join in and have fun. \nWhen & Where: \n\nEvery Thursday during school term time at The Ongar Academy\, Fyfield Road\, Chipping Ongar\, Ongar CM5 0AN\nJuniors (Ages 7–13): 6:30–7:30pm | £5 per session\nAdults: 7:30–9:00pm | £6 per session\n\nOngar Netball sessions are designed for all – whether you’re after fitness\, friendly games\, or competitive league play. No experience needed – just enthusiasm! \n\nFriendly\, inclusive atmosphere\nAll equipment provided\nTeams for beginners and experienced players\nOpportunities for league matches and social events\n\nReady to get involved? Just turn up on the night\, or email On**********@***il.com for more info. Follow us on Facebook\, or Instagram\, for weekly updates \nCome and join the Ongar Netball family – everyone is welcome! \nFor more details\, visit ongarnetball.co.uk
URL:https://anythingongar.co.uk/event/ongar-netball-training/2026-07-02/
LOCATION:The Ongar Academy\, Fyfield Road\, Ongar\, Essex\, CM5 0AN\, United Kingdom
CATEGORIES:Sports
ATTACH;FMTTYPE=image/jpeg:https://anythingongar.co.uk/wp-content/uploads/2026/02/netball-training.jpg
ORGANIZER;CN="Ongar Netball Club":MAILTO:Ongarnetball@gmail.com
END:VEVENT
BEGIN:VEVENT
DTSTART;TZID=Europe/London:20260704T193000
DTEND;TZID=Europe/London:20260704T230000
DTSTAMP:20260424T112213
CREATED:20260421T201438Z
LAST-MODIFIED:20260421T201620Z
UID:10000448-1783193400-1783206000@anythingongar.co.uk
SUMMARY:Motown & Soul at the King's Head with Shakella D
DESCRIPTION:Step into a night of timeless Motown & Soul  classics at The King’s Head\, hosted by the talented Shakella D 🎶✨ Expect big golden-era tunes\, feel-good vibes\, and plenty of reasons to sing\, sway\, and dance the night away.\nSaturday 4th July — don’t miss it 💃🏽 Make a night of it and book dinner in our restaurant.
URL:https://anythingongar.co.uk/event/motown-soul-at-the-kings-head-with-shakella-d/
LOCATION:The Kings Head\, 177 High Street\, Ongar\, Essex\, CM5 9JG\, United Kingdom
CATEGORIES:Entertainment,Food & Drink,High Street
ATTACH;FMTTYPE=image/jpeg:https://anythingongar.co.uk/wp-content/uploads/2026/04/Motown-soul-Night.jpg
ORGANIZER;CN="The Kings Head":MAILTO:info@kingsheadongar.co.uk
END:VEVENT
BEGIN:VEVENT
DTSTART;TZID=Europe/London:20260709T183000
DTEND;TZID=Europe/London:20260709T210000
DTSTAMP:20260424T112213
CREATED:20260221T022352Z
LAST-MODIFIED:20260221T022352Z
UID:10000390-1783621800-1783630800@anythingongar.co.uk
SUMMARY:Ongar Netball Training
DESCRIPTION:Ongar Netball Club – Weekly Training Sessions\nLooking to get active\, meet new friends\, and be part of a thriving local community? Ongar Netball Club welcomes players of all ages and abilities! Whether you’re new to netball or returning after a break\, you’ll find a friendly\, supportive environment where everyone is encouraged to join in and have fun. \nWhen & Where: \n\nEvery Thursday during school term time at The Ongar Academy\, Fyfield Road\, Chipping Ongar\, Ongar CM5 0AN\nJuniors (Ages 7–13): 6:30–7:30pm | £5 per session\nAdults: 7:30–9:00pm | £6 per session\n\nOngar Netball sessions are designed for all – whether you’re after fitness\, friendly games\, or competitive league play. No experience needed – just enthusiasm! \n\nFriendly\, inclusive atmosphere\nAll equipment provided\nTeams for beginners and experienced players\nOpportunities for league matches and social events\n\nReady to get involved? Just turn up on the night\, or email On**********@***il.com for more info. Follow us on Facebook\, or Instagram\, for weekly updates \nCome and join the Ongar Netball family – everyone is welcome! \nFor more details\, visit ongarnetball.co.uk
URL:https://anythingongar.co.uk/event/ongar-netball-training/2026-07-09/
LOCATION:The Ongar Academy\, Fyfield Road\, Ongar\, Essex\, CM5 0AN\, United Kingdom
CATEGORIES:Sports
ATTACH;FMTTYPE=image/jpeg:https://anythingongar.co.uk/wp-content/uploads/2026/02/netball-training.jpg
ORGANIZER;CN="Ongar Netball Club":MAILTO:Ongarnetball@gmail.com
END:VEVENT
BEGIN:VEVENT
DTSTART;TZID=Europe/London:20260716T183000
DTEND;TZID=Europe/London:20260716T210000
DTSTAMP:20260424T112213
CREATED:20260221T022352Z
LAST-MODIFIED:20260221T022352Z
UID:10000391-1784226600-1784235600@anythingongar.co.uk
SUMMARY:Ongar Netball Training
DESCRIPTION:Ongar Netball Club – Weekly Training Sessions\nLooking to get active\, meet new friends\, and be part of a thriving local community? Ongar Netball Club welcomes players of all ages and abilities! Whether you’re new to netball or returning after a break\, you’ll find a friendly\, supportive environment where everyone is encouraged to join in and have fun. \nWhen & Where: \n\nEvery Thursday during school term time at The Ongar Academy\, Fyfield Road\, Chipping Ongar\, Ongar CM5 0AN\nJuniors (Ages 7–13): 6:30–7:30pm | £5 per session\nAdults: 7:30–9:00pm | £6 per session\n\nOngar Netball sessions are designed for all – whether you’re after fitness\, friendly games\, or competitive league play. No experience needed – just enthusiasm! \n\nFriendly\, inclusive atmosphere\nAll equipment provided\nTeams for beginners and experienced players\nOpportunities for league matches and social events\n\nReady to get involved? Just turn up on the night\, or email On**********@***il.com for more info. Follow us on Facebook\, or Instagram\, for weekly updates \nCome and join the Ongar Netball family – everyone is welcome! \nFor more details\, visit ongarnetball.co.uk
URL:https://anythingongar.co.uk/event/ongar-netball-training/2026-07-16/
LOCATION:The Ongar Academy\, Fyfield Road\, Ongar\, Essex\, CM5 0AN\, United Kingdom
CATEGORIES:Sports
ATTACH;FMTTYPE=image/jpeg:https://anythingongar.co.uk/wp-content/uploads/2026/02/netball-training.jpg
ORGANIZER;CN="Ongar Netball Club":MAILTO:Ongarnetball@gmail.com
END:VEVENT
BEGIN:VEVENT
DTSTART;TZID=Europe/London:20260723T183000
DTEND;TZID=Europe/London:20260723T210000
DTSTAMP:20260424T112213
CREATED:20260221T022352Z
LAST-MODIFIED:20260221T022352Z
UID:10000392-1784831400-1784840400@anythingongar.co.uk
SUMMARY:Ongar Netball Training
DESCRIPTION:Ongar Netball Club – Weekly Training Sessions\nLooking to get active\, meet new friends\, and be part of a thriving local community? Ongar Netball Club welcomes players of all ages and abilities! Whether you’re new to netball or returning after a break\, you’ll find a friendly\, supportive environment where everyone is encouraged to join in and have fun. \nWhen & Where: \n\nEvery Thursday during school term time at The Ongar Academy\, Fyfield Road\, Chipping Ongar\, Ongar CM5 0AN\nJuniors (Ages 7–13): 6:30–7:30pm | £5 per session\nAdults: 7:30–9:00pm | £6 per session\n\nOngar Netball sessions are designed for all – whether you’re after fitness\, friendly games\, or competitive league play. No experience needed – just enthusiasm! \n\nFriendly\, inclusive atmosphere\nAll equipment provided\nTeams for beginners and experienced players\nOpportunities for league matches and social events\n\nReady to get involved? Just turn up on the night\, or email On**********@***il.com for more info. Follow us on Facebook\, or Instagram\, for weekly updates \nCome and join the Ongar Netball family – everyone is welcome! \nFor more details\, visit ongarnetball.co.uk
URL:https://anythingongar.co.uk/event/ongar-netball-training/2026-07-23/
LOCATION:The Ongar Academy\, Fyfield Road\, Ongar\, Essex\, CM5 0AN\, United Kingdom
CATEGORIES:Sports
ATTACH;FMTTYPE=image/jpeg:https://anythingongar.co.uk/wp-content/uploads/2026/02/netball-training.jpg
ORGANIZER;CN="Ongar Netball Club":MAILTO:Ongarnetball@gmail.com
END:VEVENT
BEGIN:VEVENT
DTSTART;TZID=Europe/London:20260730T183000
DTEND;TZID=Europe/London:20260730T210000
DTSTAMP:20260424T112213
CREATED:20260221T022352Z
LAST-MODIFIED:20260221T022352Z
UID:10000393-1785436200-1785445200@anythingongar.co.uk
SUMMARY:Ongar Netball Training
DESCRIPTION:Ongar Netball Club – Weekly Training Sessions\nLooking to get active\, meet new friends\, and be part of a thriving local community? Ongar Netball Club welcomes players of all ages and abilities! Whether you’re new to netball or returning after a break\, you’ll find a friendly\, supportive environment where everyone is encouraged to join in and have fun. \nWhen & Where: \n\nEvery Thursday during school term time at The Ongar Academy\, Fyfield Road\, Chipping Ongar\, Ongar CM5 0AN\nJuniors (Ages 7–13): 6:30–7:30pm | £5 per session\nAdults: 7:30–9:00pm | £6 per session\n\nOngar Netball sessions are designed for all – whether you’re after fitness\, friendly games\, or competitive league play. No experience needed – just enthusiasm! \n\nFriendly\, inclusive atmosphere\nAll equipment provided\nTeams for beginners and experienced players\nOpportunities for league matches and social events\n\nReady to get involved? Just turn up on the night\, or email On**********@***il.com for more info. Follow us on Facebook\, or Instagram\, for weekly updates \nCome and join the Ongar Netball family – everyone is welcome! \nFor more details\, visit ongarnetball.co.uk
URL:https://anythingongar.co.uk/event/ongar-netball-training/2026-07-30/
LOCATION:The Ongar Academy\, Fyfield Road\, Ongar\, Essex\, CM5 0AN\, United Kingdom
CATEGORIES:Sports
ATTACH;FMTTYPE=image/jpeg:https://anythingongar.co.uk/wp-content/uploads/2026/02/netball-training.jpg
ORGANIZER;CN="Ongar Netball Club":MAILTO:Ongarnetball@gmail.com
END:VEVENT
END:VCALENDAR